BEGIN:VCALENDAR
VERSION:2.0
PRODID:-//eventon.com NONSGML v1.0//EN
CALSCALE:GREGORIAN
METHOD:PUBLISH
BEGIN:VEVENT
UID:69e6381fe75e8
DTSTAMP:20260420T142847Z
DTSTART:20251114T090000Z
DTEND:20251114T160000Z
LOCATION:SzÃ©ll KÃ¡lmÃ¡n tÃ©r SzÃ©ll KÃ¡lmÃ¡n tÃ©r
SUMMARY:Ingyenes szÅ±rÃ©s a SzÃ©ll KÃ¡lmÃ¡n tÃ©ren!
DESCRIPTION:KÃ¶vetkezÅ‘ megÃ¡llÃ³: AZ EGÃ‰SZSÃ‰GED! ðŸ’™Ãšjra Ãºtra kelÃ¼nk
  a DiabÃ©tesz VilÃ¡gnapjÃ¡n â€“ idÃ©n mÃ¡r mÃ¡sodik alkalommal vÃ¡runk tite
 ket ingyenes egÃ©szsÃ©gÃ¼gyi szÅ±rÃ©sekkel a SzÃ©ll KÃ¡lmÃ¡n tÃ©ri megÃ¡llÃ
 ³nÃ¡l! MÃ­g a jÃ¡ratra vÃ¡rsz\,  fordÃ­ts egy csepp figyelmet magadra: vÃ©r
 cukorszint\,  vÃ©roxigÃ©nszint Ã©s vÃ©rnyomÃ¡s mÃ©rÃ©sen vehetsz rÃ©szt sÃ¡
 rga szÅ±rÅ‘standunknÃ¡l. November 14-Ã©n\,  csÃ¼tÃ¶rtÃ¶kÃ¶n 10:00-17:00-ig 
 vÃ¡runk! A szÅ±rÅ‘Ã¡llomÃ¡son[..]\nhttps://egycseppfigyelem.hu/hirek/esemen
 yek/ingyenes-szures-a-szell-kalman-teren/
URL:https://egycseppfigyelem.hu/hirek/esemenyek/ingyenes-szures-a-szell-kalman-teren/
END:VEVENT
END:VCALENDAR